BEGIN:VCALENDAR
VERSION:2.0
PRODID:-//wp-events-plugin.com//7.2.3.1//EN
TZID:Europe/Berlin
X-WR-TIMEZONE:Europe/Berlin
BEGIN:VEVENT
UID:14@vc-celle.de
DTSTART;TZID=Europe/Berlin;VALUE=DATE:20130823
DTEND;TZID=Europe/Berlin;VALUE=DATE:20130826
DTSTAMP:20130810T102253Z
URL:https://www.vc-celle.de/events/17-celler-heidetreffen
SUMMARY:17. Celler Heidetreffen
DESCRIPTION:\nLiebe Rollergemeinde\,\n\nder VC Celle lädt wie jedes Jahr 
 zum Heidetreffen ein.\nDieses Jahr vom 23.-25. August 2013 in Walle (be
 i Winsen/Aller).\nDas heißt: Altbewährte Party auf altbewährtem Platz.\
 n\nWeitere Informationen findet ihr auf der Seite Heidetreffen.\n\nVerkeh
 rshinweis:\n\nIn Winsen ist die Poststraße wegen umfangreicher Baumaßnah
 men aus Richtung Norden gesperrt! Die Eisdielen und Restaurants in diesem 
 Bereich kann man über folgende Umleitung erreichen:\n\nAus Walle kommend 
 links in die „Alte Celler Heerstraße“. Am Ende rechts in die „Celle
 r Str.“\, an der Ampelkreuzung rechts in die „Poststraße“.\n\nNach 
 Celle geht es am Ende der „Alte Celler Heerstraße“ links ab nach Cell
 e\n\n
CATEGORIES:Vespa Club Celle
LOCATION:Sportheim Walle\, Am Sportheim 1\, Winsen\, Niedersachsen\, 29308\
 , Deutschland
GEO:52.73701;9.925880000000006
X-APPLE-STRUCTURED-LOCATION;VALUE=URI;X-ADDRESS=Am Sportheim 1\, Winsen\, N
 iedersachsen\, 29308\, Deutschland;X-APPLE-RADIUS=100;X-TITLE=Sportheim Wa
 lle:geo:52.73701,9.925880000000006
END:VEVENT
BEGIN:VTIMEZONE
TZID:Europe/Berlin
X-LIC-LOCATION:Europe/Berlin
BEGIN:DAYLIGHT
DTSTART:20130331T030000
TZOFFSETFROM:+0100
TZOFFSETTO:+0200
TZNAME:CEST
END:DAYLIGHT
END:VTIMEZONE
END:VCALENDAR