BEGIN:VCALENDAR
VERSION:2.0
PRODID:-//wp-events-plugin.com//7.2.3.1//EN
TZID:Europe/Berlin
X-WR-TIMEZONE:Europe/Berlin
BEGIN:VEVENT
UID:237@vc-celle.de
DTSTART;TZID=Europe/Berlin:20180501T120000
DTEND;TZID=Europe/Berlin:20180501T120000
DTSTAMP:20180103T114853Z
URL:https://www.vc-celle.de/events/18-maicorso-durch-das-hannoversche-umla
 nd
SUMMARY:18. Maicorso durch das hannoversche Umland
DESCRIPTION:
CATEGORIES:Tagesveranstaltung
LOCATION:bei Praktiker\, Alte Ricklinger Straße 45\, Garbsen\, Niedersachs
 en\, 30823\, Deutschland
GEO:52.41936;9.57407999999998
X-APPLE-STRUCTURED-LOCATION;VALUE=URI;X-ADDRESS=Alte Ricklinger Straße 45\
 , Garbsen\, Niedersachsen\, 30823\, Deutschland;X-APPLE-RADIUS=100;X-TITLE
 =bei Praktiker:geo:52.41936,9.57407999999998
END:VEVENT
BEGIN:VTIMEZONE
TZID:Europe/Berlin
X-LIC-LOCATION:Europe/Berlin
BEGIN:DAYLIGHT
DTSTART:20180325T030000
TZOFFSETFROM:+0100
TZOFFSETTO:+0200
TZNAME:CEST
END:DAYLIGHT
END:VTIMEZONE
END:VCALENDAR