BEGIN:VCALENDAR
VERSION:2.0
PRODID:-//wp-events-plugin.com//7.2.3.1//EN
TZID:Europe/Berlin
X-WR-TIMEZONE:Europe/Berlin
BEGIN:VEVENT
UID:211@vc-celle.de
DTSTART;TZID=Europe/Berlin;VALUE=DATE:20170629
DTEND;TZID=Europe/Berlin;VALUE=DATE:20170703
DTSTAMP:20170615T135127Z
URL:https://www.vc-celle.de/events/2-suedtiroler-genussrallye
SUMMARY:2. Südtiroler Genussrallye
DESCRIPTION:180km – 3.000hm – 1 Gletscher - Südtirol pur\nMit der Vesp
 a Südtirol in all seinen Facetten erleben.\n\n...das will der Vespaclub A
 LAGUMNA aus Algund bei Meran Dir und deinen Freunden mit der 2. SÜDTIROLE
 R GENUSSRALLYE ermöglichen.\nZum zweiten Mal veranstaltet der Vespaclub e
 ine erlebnisvolle Rundfahrt.\nZwei Tage fahren wir durch grüne Obstwiesen
 \, auf Hochplateaus mit atemberaubender Fernsicht bis hin zu den Dolomiten
  und rein in eine Gletscherkulisse im Herzen der Alpen.\nWir freuen uns Di
 ch mit deiner Vespa auf ein paar unvergessliche Tage zu uns ins schöne S
 üdtirol einladen\, um gemeinsam landschaftliche Erlebnisse und vor allem 
 kulinarische Highlights zu genießen.\n\nAnmeldung und Informationen auf d
 ie Webseite und Facebook 
CATEGORIES:International
END:VEVENT
BEGIN:VTIMEZONE
TZID:Europe/Berlin
X-LIC-LOCATION:Europe/Berlin
BEGIN:DAYLIGHT
DTSTART:20170326T030000
TZOFFSETFROM:+0100
TZOFFSETTO:+0200
TZNAME:CEST
END:DAYLIGHT
END:VTIMEZONE
END:VCALENDAR