BEGIN:VCALENDAR
VERSION:2.0
PRODID:-//wp-events-plugin.com//7.2.3.1//EN
TZID:Europe/Berlin
X-WR-TIMEZONE:Europe/Berlin
BEGIN:VEVENT
UID:128@vc-celle.de
DTSTART;TZID=Europe/Berlin:20160617T130000
DTEND;TZID=Europe/Berlin:20160619T160000
DTSTAMP:20151113T113420Z
URL:https://www.vc-celle.de/events/30-years-of-welfen-rk
SUMMARY:30 Years of Welfen RK
DESCRIPTION:- exklusives Gelände direkt am Strand\n- eigener Strandbereich
 \n- ruhige Zeltwiese\n- Ferienwohnungen und Gästehäuser in umittelbarer 
 Umgebung\n- Premium Frühstücksbuffet\n- günstige Preise\n- 2 legendäre
  Soul Allnighter Freitag und Samstag\n- Scooterboy Alldayer am Samstag\n- 
 Bar 24h geöffnet\n
CATEGORIES:National,Treffen
LOCATION:Landhaus Großes Meer\, Am Meer 1\, Südbrookmerland\, Niedersachs
 en\, 26624\, Deutschland
GEO:53.446640;7.305570
X-APPLE-STRUCTURED-LOCATION;VALUE=URI;X-ADDRESS=Am Meer 1\, Südbrookmerlan
 d\, Niedersachsen\, 26624\, Deutschland;X-APPLE-RADIUS=100;X-TITLE=Landhau
 s Großes Meer:geo:53.446640,7.305570
END:VEVENT
BEGIN:VTIMEZONE
TZID:Europe/Berlin
X-LIC-LOCATION:Europe/Berlin
BEGIN:DAYLIGHT
DTSTART:20160327T030000
TZOFFSETFROM:+0100
TZOFFSETTO:+0200
TZNAME:CEST
END:DAYLIGHT
END:VTIMEZONE
END:VCALENDAR