BEGIN:VCALENDAR
VERSION:2.0
PRODID:-//wp-events-plugin.com//7.2.3.1//EN
TZID:Europe/Berlin
X-WR-TIMEZONE:Europe/Berlin
BEGIN:VEVENT
UID:239@vc-celle.de
DTSTART;TZID=Europe/Berlin;VALUE=DATE:20180929
DTEND;TZID=Europe/Berlin;VALUE=DATE:20181001
DTSTAMP:20180731T191700Z
URL:https://www.vc-celle.de/events/6-german-vespa-rally
SUMMARY:6. German Vespa Rally
DESCRIPTION:Gastgeber der 6. German Vespa Rally wird der Vespa Club Bonn se
 in. Er befindet sich schon mitten in den Streckenplanungen. Es wird durch 
 das Siebengebirge und an den Rhein führen.\n\nDie Rally findet diesmal am
  29. und 30.  September 2018 statt.\n\nAusschreibung &amp\; Programm
CATEGORIES:National,Treffen
LOCATION:Bürgersaal Erpel\, Heisterer Str. 29\, Erpel\, Rheinland-Pfalz\, 
 53579\, Deutschland
GEO:50.58637;7.2317299999999705
X-APPLE-STRUCTURED-LOCATION;VALUE=URI;X-ADDRESS=Heisterer Str. 29\, Erpel\,
  Rheinland-Pfalz\, 53579\, Deutschland;X-APPLE-RADIUS=100;X-TITLE=Bürgers
 aal Erpel:geo:50.58637,7.2317299999999705
END:VEVENT
BEGIN:VTIMEZONE
TZID:Europe/Berlin
X-LIC-LOCATION:Europe/Berlin
BEGIN:DAYLIGHT
DTSTART:20180325T030000
TZOFFSETFROM:+0100
TZOFFSETTO:+0200
TZNAME:CEST
END:DAYLIGHT
END:VTIMEZONE
END:VCALENDAR