BEGIN:VCALENDAR
VERSION:2.0
PRODID:-//wp-events-plugin.com//7.2.3.1//EN
TZID:Europe/Berlin
X-WR-TIMEZONE:Europe/Berlin
BEGIN:VEVENT
UID:67@vc-celle.de
DTSTART;TZID=Europe/Berlin;VALUE=DATE:20150821
DTEND;TZID=Europe/Berlin;VALUE=DATE:20150824
DTSTAMP:20131111T205328Z
URL:https://www.vc-celle.de/events/65-jahre-vespa-club-hamburg-jubilaeums-
 treffen
SUMMARY:65 Jahre Vespa Club Hamburg Jubiläums-Treffen
DESCRIPTION:Wir wollen wieder unseren Geburtstag feiern\, diesmal in der St
 adt Winsen(Luhe) und ihrer schönen Innenstadtkulisse.\n\n
CATEGORIES:National,Treffen
LOCATION:Schlossplatz Winsen Luhe\, Schlossplatz 4\, Winsen (Luhe)\, Nieder
 sachsen\, 21423\, Deutschland
GEO:53.36304;10.204380000000015
X-APPLE-STRUCTURED-LOCATION;VALUE=URI;X-ADDRESS=Schlossplatz 4\, Winsen (Lu
 he)\, Niedersachsen\, 21423\, Deutschland;X-APPLE-RADIUS=100;X-TITLE=Schlo
 ssplatz Winsen Luhe:geo:53.36304,10.204380000000015
END:VEVENT
BEGIN:VTIMEZONE
TZID:Europe/Berlin
X-LIC-LOCATION:Europe/Berlin
BEGIN:DAYLIGHT
DTSTART:20150329T030000
TZOFFSETFROM:+0100
TZOFFSETTO:+0200
TZNAME:CEST
END:DAYLIGHT
END:VTIMEZONE
END:VCALENDAR