BEGIN:VCALENDAR
VERSION:2.0
PRODID:-//wp-events-plugin.com//7.2.3.1//EN
TZID:Europe/Berlin
X-WR-TIMEZONE:Europe/Berlin
BEGIN:VEVENT
UID:421@vc-celle.de
DTSTART;TZID=Europe/Berlin:20250927T093000
DTEND;TZID=Europe/Berlin:20250927T093000
DTSTAMP:20250915T115225Z
URL:https://www.vc-celle.de/events/abrollern-2025
SUMMARY:Abrollern 2025
DESCRIPTION:\nAbrollern am 27. September\nTreffen ab 9:30 Uhr in Wieckenber
 g / Abfahrt 10:45 - Details über PN\nTour: 65km Überland\, 50er tauglich
 \nZiel: Wathlingen\n\n\nUnkostenbeitrag (nicht-Mitglieder) €7\,50 für E
 ssen &amp\; Getränke\nUm Anmeldung wird gebeten bis 21. September - bitte
  PN schicken - da es eine Suppe gibt\, bitte angeben ob vegetarisch oder m
 it Fleisch\n\n\nWir freuen uns auf Euch \n
CATEGORIES:Vespa Club Celle
LOCATION:Wieckenberg\, Wieckenberg\, Wietze\, Niedersachsen\, 29323\, Deuts
 chland
GEO:52.637255;9.841787
X-APPLE-STRUCTURED-LOCATION;VALUE=URI;X-ADDRESS=Wieckenberg\, Wietze\, Nied
 ersachsen\, 29323\, Deutschland;X-APPLE-RADIUS=100;X-TITLE=Wieckenberg:geo
 :52.637255,9.841787
END:VEVENT
BEGIN:VTIMEZONE
TZID:Europe/Berlin
X-LIC-LOCATION:Europe/Berlin
BEGIN:DAYLIGHT
DTSTART:20250330T030000
TZOFFSETFROM:+0100
TZOFFSETTO:+0200
TZNAME:CEST
END:DAYLIGHT
END:VTIMEZONE
END:VCALENDAR