BEGIN:VCALENDAR
VERSION:2.0
PRODID:-//wp-events-plugin.com//7.2.3.1//EN
TZID:Europe/Berlin
X-WR-TIMEZONE:Europe/Berlin
BEGIN:VEVENT
UID:297@vc-celle.de
DTSTART;TZID=Europe/Berlin:20191005T110000
DTEND;TZID=Europe/Berlin:20191005T190000
DTSTAMP:20190923T054428Z
URL:https://www.vc-celle.de/events/abrollern-vc-celle
SUMMARY:Abrollern VC Celle
DESCRIPTION:Hallo liebe Freunde der gepflegten Vespakultur\,\n\nim Anhang 
 übersenden wir\, Nico und ich\, mit der Bitte um wohlwollende Beachtung u
 nd der hoffnungsvollen Erwartung auf rege Teilnahme\, die Daten zum diesj
 ährigen Abrollern des VC Celle.\n\nFür eine bessere Planbarkeit bitten w
 ir um Anmeldung unter der genannten Adresse.\n\nWir freuen uns auf Euch..\
 n\nNico und Boris Jacobi\nMit Familien\n\n
CATEGORIES:Vespa Club Celle
LOCATION:Bei Nico\, Tuvestraße 8\, Celle\, Niedersachsen\, 29221\, Deutsch
 land
GEO:52.60902429999999;10.09468579999998
X-APPLE-STRUCTURED-LOCATION;VALUE=URI;X-ADDRESS=Tuvestraße 8\, Celle\, Nie
 dersachsen\, 29221\, Deutschland;X-APPLE-RADIUS=100;X-TITLE=Bei Nico:geo:5
 2.60902429999999,10.09468579999998
END:VEVENT
BEGIN:VTIMEZONE
TZID:Europe/Berlin
X-LIC-LOCATION:Europe/Berlin
BEGIN:DAYLIGHT
DTSTART:20190331T030000
TZOFFSETFROM:+0100
TZOFFSETTO:+0200
TZNAME:CEST
END:DAYLIGHT
END:VTIMEZONE
END:VCALENDAR