BEGIN:VCALENDAR
VERSION:2.0
PRODID:-//wp-events-plugin.com//7.2.3.1//EN
TZID:Europe/Berlin
X-WR-TIMEZONE:Europe/Berlin
BEGIN:VEVENT
UID:296@vc-celle.de
DTSTART;TZID=Europe/Berlin;VALUE=DATE:20190928
DTEND;TZID=Europe/Berlin;VALUE=DATE:20190930
DTSTAMP:20190829T102533Z
URL:https://www.vc-celle.de/events/abschlusstreffen-deligiertenversammlung
SUMMARY:Abschlusstreffen/Deligiertenversammlung
DESCRIPTION:Abschlusstreffen 2019 des VCVD des VC Los Piratos Voerde in Sch
 ermbeck\, bei dem am Sonntag auch die Delegiertenversammlung des VCVD ausg
 etragen wird.\n\n 	Ausschreibung\n
CATEGORIES:National,Treffen
LOCATION:Gelände der Pfadfinder Schermbeck\, Prozessionsweg 8\, Schermbeck
 \, Nordrhein-Westfalen\, 46514\, Deutschland
GEO:51.694433;6.88251600000001
X-APPLE-STRUCTURED-LOCATION;VALUE=URI;X-ADDRESS=Prozessionsweg 8\, Schermbe
 ck\, Nordrhein-Westfalen\, 46514\, Deutschland;X-APPLE-RADIUS=100;X-TITLE=
 Gelände der Pfadfinder Schermbeck:geo:51.694433,6.88251600000001
END:VEVENT
BEGIN:VTIMEZONE
TZID:Europe/Berlin
X-LIC-LOCATION:Europe/Berlin
BEGIN:DAYLIGHT
DTSTART:20190331T030000
TZOFFSETFROM:+0100
TZOFFSETTO:+0200
TZNAME:CEST
END:DAYLIGHT
END:VTIMEZONE
END:VCALENDAR