BEGIN:VCALENDAR
VERSION:2.0
PRODID:-//wp-events-plugin.com//7.2.3.1//EN
TZID:Europe/Berlin
X-WR-TIMEZONE:Europe/Berlin
BEGIN:VEVENT
UID:244@vc-celle.de
DTSTART;TZID=Europe/Berlin:20180421T103000
DTEND;TZID=Europe/Berlin:20180421T103000
DTSTAMP:20180120T092921Z
URL:https://www.vc-celle.de/events/anrollern-2018
SUMMARY:Anrollern 2018
DESCRIPTION:Liebe Clubmitglieder\, liebe Freunde\,\n\nes ist wieder soweit\
 , eine neue Saison naht.\n\nIch möchte ganz herzlich zum Anrollern 2018 e
 inladen.\n\nTermin: 21. April 10:30 Uhr\n\nWer dabei sein möchte\, den bi
 tte ich bis spätestens 1 Woche vorher um eine schriftliche Zusage an mein
 e Mail-Adresse.\n\nIch freue mich auf jeden Teilnehmer und hoffe auf gutes
  Wetter.\n\nLg Mario
CATEGORIES:Vespa Club Celle
LOCATION:bei Mario\, Finkenstieg 2\, Celle\, Niedersachsen\, 29225\, Deutsc
 hland
GEO:52.6052756;10.044474700000023
X-APPLE-STRUCTURED-LOCATION;VALUE=URI;X-ADDRESS=Finkenstieg 2\, Celle\, Nie
 dersachsen\, 29225\, Deutschland;X-APPLE-RADIUS=100;X-TITLE=bei Mario:geo:
 52.6052756,10.044474700000023
END:VEVENT
BEGIN:VTIMEZONE
TZID:Europe/Berlin
X-LIC-LOCATION:Europe/Berlin
BEGIN:DAYLIGHT
DTSTART:20180325T030000
TZOFFSETFROM:+0100
TZOFFSETTO:+0200
TZNAME:CEST
END:DAYLIGHT
END:VTIMEZONE
END:VCALENDAR