BEGIN:VCALENDAR
VERSION:2.0
PRODID:-//wp-events-plugin.com//7.2.3.1//EN
TZID:Europe/Berlin
X-WR-TIMEZONE:Europe/Berlin
BEGIN:VEVENT
UID:320@vc-celle.de
DTSTART;TZID=Europe/Berlin;VALUE=DATE:20200418
DTEND;TZID=Europe/Berlin;VALUE=DATE:20200419
DTSTAMP:20200329T163002Z
URL:https://www.vc-celle.de/events/anrollern-vc-celle
SUMMARY:Anrollern VC-Celle - Abgesagt
DESCRIPTION:Hallo zusammen\,\n\nda die Kontaktsperre der Bundesregierung bi
 s mindestens zum 20.4. geht\, müssen wir das Anrollen leider absagen.\nWi
 r sehnen uns alle die Tage (glaube ich) sehr nach unseren sozialen Kontakt
 en und gerade bei dem schönen Wetter der letzen Tage nach einer tollen Au
 sfahrt.\nAber Gesundheit geht vor und daher machen wir uns momentan die Ta
 ge zu Hause einfach nett :)\n\nUnd was meint ihr wie schön\, dann erst ei
 n Wiedersehen wird :)\n\nWenn sich die Situation etwas entspannt hat\, sch
 auen wir\, dass wir uns ganz bald zu einer schönen Ausfahrt treffen und d
 anach noch gemeinsam in netter Runde ein Getränk zusammen schlürfen.\nDa
  freu ich mich jetzt schon sehr drauf.\n\nMit besten Grüße\, euer Vorsta
 nd
CATEGORIES:Vespa Club Celle
END:VEVENT
BEGIN:VTIMEZONE
TZID:Europe/Berlin
X-LIC-LOCATION:Europe/Berlin
BEGIN:DAYLIGHT
DTSTART:20200329T030000
TZOFFSETFROM:+0100
TZOFFSETTO:+0200
TZNAME:CEST
END:DAYLIGHT
END:VTIMEZONE
END:VCALENDAR