BEGIN:VCALENDAR
VERSION:2.0
PRODID:-//wp-events-plugin.com//7.2.3.1//EN
TZID:Europe/Berlin
X-WR-TIMEZONE:Europe/Berlin
BEGIN:VEVENT
UID:346@vc-celle.de
DTSTART;TZID=Europe/Berlin:20220625T100000
DTEND;TZID=Europe/Berlin:20220625T160000
DTSTAMP:20220524T202627Z
URL:https://www.vc-celle.de/events/ausfahrt-ggf-mit-uebernachtung
SUMMARY:Ausfahrt
DESCRIPTION:Wir wollen uns an dem Tag gerne um 10 Uhr mit euch in der Agent
 ur von Dominic treffen.\nGegen 11 / 11:30 wollen wir dann eine kleine Ausf
 ahrt starten.\nDiese wird diesmal auch fuffitauglich sein.\nZiel ist eine 
 leckere Eisdiele. Hier können wir dann alle zusammen ein Eis essen\, nen 
 Kaffe trinken\, bevor wir uns wieder auf den Heimweg machen.\n\nDann hat j
 eder nochmal Zeit sich auszuruhen und sich die Tanzschuhe anzuziehen\, bev
 or wir uns um 17 Uhr im Karrenweg in Vorkwerk Wiedertreffen.\nHier machen 
 wir um 17 Uhr die Jahreshauptversammlung\, um 19 Uhr wird das leckere Esse
 n geliefert.\nDanach wollen wir ordentlich das Tanzbein schwingen und den 
 Nacht zum Tage machen\n\nBitte meldet euch bis zum 18.6. bei Birte an\, da
 mit wir genug zu essen und zu trinken da haben.
CATEGORIES:Vespa Club Celle
LOCATION:Allianz Versicherung Dominic Frentzel\, Mühlenstraße 9\, Celle\,
  Niedersachsen\, 29221\, Deutschland
GEO:52.624519;10.074775
X-APPLE-STRUCTURED-LOCATION;VALUE=URI;X-ADDRESS=Mühlenstraße 9\, Celle\, 
 Niedersachsen\, 29221\, Deutschland;X-APPLE-RADIUS=100;X-TITLE=Allianz Ver
 sicherung Dominic Frentzel:geo:52.624519,10.074775
END:VEVENT
BEGIN:VTIMEZONE
TZID:Europe/Berlin
X-LIC-LOCATION:Europe/Berlin
BEGIN:DAYLIGHT
DTSTART:20220327T030000
TZOFFSETFROM:+0100
TZOFFSETTO:+0200
TZNAME:CEST
END:DAYLIGHT
END:VTIMEZONE
END:VCALENDAR