BEGIN:VCALENDAR
VERSION:2.0
PRODID:-//wp-events-plugin.com//7.2.3.1//EN
TZID:Europe/Berlin
X-WR-TIMEZONE:Europe/Berlin
BEGIN:VEVENT
UID:111@vc-celle.de
DTSTART;TZID=Europe/Berlin:20150522T120000
DTEND;TZID=Europe/Berlin:20150524T170000
DTSTAMP:20150121T102928Z
URL:https://www.vc-celle.de/events/ferien-im-sauerland-2015
SUMMARY:Ferien im Sauerland 2015
DESCRIPTION:\n\nwww.hidden-power.de · marc-o@hidden-power.de\n\n- alter Gu
 tshof im malerischen Sauerland / Bergischen\n- feste Halle\, feste Toilett
 en\n- schöne Zeltwiese\n- zeltüberdachter asphaltierter Openair-Hof\n- t
 raumhafte Umgebung\, Kurvencorso\, Talsperren\n- http://www.gut-haarbecke.
 de/\n\n- Corso durchs wunderschöne Sauerland\n- 2 Allnighter (Top DJs!)\n
 - Custom-Show\n- Brennplatte für Burnouts\, Reifen werden da sein!\n- Lei
 stungsprüfstand\n- Karpfenteich für Angel- und Stuntvergnügen\n- Lagerf
 euer\n\nVerpflegung:\n\n✖ Fleischfreuden von Grill:\nGrillsteaks\, Bratw
 urst\, Currywurst\, mit Tobis sensationeller Currysauce\, Bratkartoffeln\n
 \n✖ Gutsherren-Frühstück:\nBrötchen\, Wurst\, Käse\, Marmelade\, Sch
 oki\nKaffee\, Tee\, Rührei\, Rollmöpse\, Obstkorb\n\n✖ Sauerländer Bi
 erspezialitäten\, auch dieses Jahr wieder in 0\,5l-Humpen!\n- Kurze\n- Co
 cktail-Bar\n
CATEGORIES:National,Treffen
LOCATION:Gut Haarbecke\, Haarhauser Weg\, Kierspe-Rönsahl\, Nordrhein-West
 falen\, 58566\, Deutschland
GEO:51.1138086;7.51589690000003
X-APPLE-STRUCTURED-LOCATION;VALUE=URI;X-ADDRESS=Haarhauser Weg\, Kierspe-R
 önsahl\, Nordrhein-Westfalen\, 58566\, Deutschland;X-APPLE-RADIUS=100;X-T
 ITLE=Gut Haarbecke:geo:51.1138086,7.51589690000003
END:VEVENT
BEGIN:VTIMEZONE
TZID:Europe/Berlin
X-LIC-LOCATION:Europe/Berlin
BEGIN:DAYLIGHT
DTSTART:20150329T030000
TZOFFSETFROM:+0100
TZOFFSETTO:+0200
TZNAME:CEST
END:DAYLIGHT
END:VTIMEZONE
END:VCALENDAR