BEGIN:VCALENDAR
VERSION:2.0
PRODID:-//wp-events-plugin.com//7.2.3.1//EN
TZID:Europe/Berlin
X-WR-TIMEZONE:Europe/Berlin
BEGIN:VEVENT
UID:253@vc-celle.de
DTSTART;TZID=Europe/Berlin:20190531T140000
DTEND;TZID=Europe/Berlin:20190602T140000
DTSTAMP:20181018T125219Z
URL:https://www.vc-celle.de/events/himmelfahrtskommando-2019
SUMMARY:Himmelfahrtskommando 2019
DESCRIPTION:
CATEGORIES:Treffen
LOCATION:Schützenverein Dibbersen\, Zur alten Mühle 2\, Buchholz\, Nieder
 sachsen\, 21244\, Deutschland
GEO:53.37;9.866489999999999
X-APPLE-STRUCTURED-LOCATION;VALUE=URI;X-ADDRESS=Zur alten Mühle 2\, Buchho
 lz\, Niedersachsen\, 21244\, Deutschland;X-APPLE-RADIUS=100;X-TITLE=Schüt
 zenverein Dibbersen:geo:53.37,9.866489999999999
END:VEVENT
BEGIN:VTIMEZONE
TZID:Europe/Berlin
X-LIC-LOCATION:Europe/Berlin
BEGIN:DAYLIGHT
DTSTART:20190331T030000
TZOFFSETFROM:+0100
TZOFFSETTO:+0200
TZNAME:CEST
END:DAYLIGHT
END:VTIMEZONE
END:VCALENDAR