BEGIN:VCALENDAR
VERSION:2.0
PRODID:-//wp-events-plugin.com//7.2.3.1//EN
TZID:Europe/Berlin
X-WR-TIMEZONE:Europe/Berlin
BEGIN:VEVENT
UID:173@vc-celle.de
DTSTART;TZID=Europe/Berlin:20170115T100000
DTEND;TZID=Europe/Berlin:20170115T100000
DTSTAMP:20170102T114519Z
URL:https://www.vc-celle.de/events/jahreshauptversammlung-2
SUMMARY:Jahreshauptversammlung
DESCRIPTION:Liebe Vespafreunde\,\n\nbitte merkt Euch schon mal den Termin d
 er nächsten Mitgliederversammlung\nam 15. Januar 2017 um 11:00h.\nWie imm
 er werden wir vorher ab 10:00h gemeinsam frühstücken.\n\nDie Einladung m
 it Tagesordnung erfolgte fristgemäß am 22.11.2016.\n\nEinladung_Mitglied
 erversammlung_2017-01-15\n\nSchöne Grüße\,\nIngo
CATEGORIES:Vespa Club Celle
LOCATION:Heideblüte\, Ovelgönne\, Celler Strasse 1\, Hambühren\, Nieders
 achsen\, 29313 \, Deutschland
GEO:52.63376;9.93091000000004
X-APPLE-STRUCTURED-LOCATION;VALUE=URI;X-ADDRESS=Celler Strasse 1\, Hambühr
 en\, Niedersachsen\, 29313 \, Deutschland;X-APPLE-RADIUS=100;X-TITLE=Heide
 blüte\, Ovelgönne:geo:52.63376,9.93091000000004
END:VEVENT
BEGIN:VTIMEZONE
TZID:Europe/Berlin
X-LIC-LOCATION:Europe/Berlin
BEGIN:STANDARD
DTSTART:20161030T020000
TZOFFSETFROM:+0200
TZOFFSETTO:+0100
TZNAME:CET
END:STANDARD
END:VTIMEZONE
END:VCALENDAR