BEGIN:VCALENDAR
VERSION:2.0
PRODID:-//wp-events-plugin.com//7.2.3.1//EN
TZID:Europe/Berlin
X-WR-TIMEZONE:Europe/Berlin
BEGIN:VEVENT
UID:172@vc-celle.de
DTSTART;TZID=Europe/Berlin:20170113T193000
DTEND;TZID=Europe/Berlin:20170113T193000
DTSTAMP:20170103T111030Z
URL:https://www.vc-celle.de/events/januar-stammtisch-3
SUMMARY:Januar Stammtisch
DESCRIPTION:Der Stammtisch am 13.Januar findet im\n\nBel Mundo\nHafenstraß
 e 2\n29223 Celle\n\num 19.30 Uhr statt.
CATEGORIES:Vespa Club Celle
LOCATION:Bell Mundo\, Hafenstraße 2\, Celle\, 29223 \, Deutschland
GEO:52.6269512;10.078185399999938
X-APPLE-STRUCTURED-LOCATION;VALUE=URI;X-ADDRESS=Hafenstraße 2\, Celle\, 29
 223 \, Deutschland;X-APPLE-RADIUS=100;X-TITLE=Bell Mundo:geo:52.6269512,10
 .078185399999938
END:VEVENT
BEGIN:VTIMEZONE
TZID:Europe/Berlin
X-LIC-LOCATION:Europe/Berlin
BEGIN:STANDARD
DTSTART:20161030T020000
TZOFFSETFROM:+0200
TZOFFSETTO:+0100
TZNAME:CET
END:STANDARD
END:VTIMEZONE
END:VCALENDAR