BEGIN:VCALENDAR
VERSION:2.0
PRODID:-//wp-events-plugin.com//7.2.3.1//EN
TZID:Europe/Berlin
X-WR-TIMEZONE:Europe/Berlin
BEGIN:VEVENT
UID:204@vc-celle.de
DTSTART;TZID=Europe/Berlin:20170820T110000
DTEND;TZID=Europe/Berlin:20170820T170000
DTSTAMP:20170629T104934Z
URL:https://www.vc-celle.de/events/luebecker-baedertour-boltenhagen-boulev
 ard-bambule
SUMMARY:Lübecker Bädertour - Boltenhagen Boulevard Bambule
DESCRIPTION:Die Bäderbande lädt ein zur Ausfahrt nach Boltenhagen in die 
 Weisse Wiek.\nDER Klassiker unter den Ausfahrten im Norden - Be there or b
 e square!\nWie immer mit Kaffeempfang und allem Pipapo...\nTreffen ab 11h\
 , Abfahrt 12h.\nDie Roller bitte vollgetankt am Treffpunkt Wakenitzufer Fa
 lkenstr. HL\n\nBITTE HALTET 1.50 TUNNELMAUT UND 2.50 FÄHRGELD = 4\,-EUR P
 ASSEND BEREIT\, VIELEN DANK!\n\nChill &amp\; Grill am Ziel von Iberotel.\n
 \nAuf der Hintour (ca. 60 km) Tankstop in Klütz\,\nAuf der Rücktour (ca 
 55 km) Tankstop in Dassow....\nEnde ca. 17.00 Im Eiscafe Rialto\, Mühlens
 tr. Lübeck.
CATEGORIES:National,Tagesveranstaltung
LOCATION:Wakenitzufer\, Falkenstraße 54\, Lübeck\, Schleswig-Holstein\, 2
 3564\, Deutschland
GEO:53.87198;10.698710000000005
X-APPLE-STRUCTURED-LOCATION;VALUE=URI;X-ADDRESS=Falkenstraße 54\, Lübeck\
 , Schleswig-Holstein\, 23564\, Deutschland;X-APPLE-RADIUS=100;X-TITLE=Wake
 nitzufer:geo:53.87198,10.698710000000005
END:VEVENT
BEGIN:VTIMEZONE
TZID:Europe/Berlin
X-LIC-LOCATION:Europe/Berlin
BEGIN:DAYLIGHT
DTSTART:20170326T030000
TZOFFSETFROM:+0100
TZOFFSETTO:+0200
TZNAME:CEST
END:DAYLIGHT
END:VTIMEZONE
END:VCALENDAR