BEGIN:VCALENDAR
VERSION:2.0
PRODID:-//wp-events-plugin.com//7.2.3.1//EN
TZID:Europe/Berlin
X-WR-TIMEZONE:Europe/Berlin
BEGIN:VEVENT
UID:312@vc-celle.de
DTSTART;TZID=Europe/Berlin:20200131T190000
DTEND;TZID=Europe/Berlin:20200131T223000
DTSTAMP:20200115T075440Z
URL:https://www.vc-celle.de/events/neujahrstreffen-vcc-vch-2020
SUMMARY:Neujahrstreffen VCC VCH 2020
DESCRIPTION:Nachdem wir uns mit unseren Freunden vom VC Hannover ja schon i
 n den letzten Jahren zu einem gemeinsamen Clubabend Anfang des Jahres getr
 offen haben\, wollen wir dies auch 2020 fortsetzen.\n\nLeider hat das "Hau
 s am Walde" im Januar Betriebsferien\, so das wir uns in diesem Jahr im Ri
 storante Amorosa in Insernhagen zusammen "clubben"!\n\nAm 31.01.2018 um 19
 .00 Uhr findet daher der dritte gemeinsame Neujahrsclubabend statt.\nWir f
 reuen uns auch euch!
CATEGORIES:Vespa Club Celle
LOCATION:Ristorante Amorosa\, Auf der Heide 32\, Isernhagen\, Niedersachsen
 \, 30916\, Deutschland
GEO:52.47877;9.81458
X-APPLE-STRUCTURED-LOCATION;VALUE=URI;X-ADDRESS=Auf der Heide 32\, Isernhag
 en\, Niedersachsen\, 30916\, Deutschland;X-APPLE-RADIUS=100;X-TITLE=Ristor
 ante Amorosa:geo:52.47877,9.81458
END:VEVENT
BEGIN:VTIMEZONE
TZID:Europe/Berlin
X-LIC-LOCATION:Europe/Berlin
BEGIN:STANDARD
DTSTART:20191027T020000
TZOFFSETFROM:+0200
TZOFFSETTO:+0100
TZNAME:CET
END:STANDARD
END:VTIMEZONE
END:VCALENDAR