BEGIN:VCALENDAR
VERSION:2.0
PRODID:-//wp-events-plugin.com//7.2.3.1//EN
TZID:Europe/Berlin
X-WR-TIMEZONE:Europe/Berlin
BEGIN:VEVENT
UID:397@vc-celle.de
DTSTART;TZID=Europe/Berlin:20241224T110000
DTEND;TZID=Europe/Berlin:20241224T130000
DTSTAMP:20241202T083534Z
URL:https://www.vc-celle.de/events/rollern-unterm-weihnachtsbaum-10
SUMMARY:Rollern unterm Weihnachtsbaum
DESCRIPTION:Hallo an Alle!\n\nWeihnachtstreffen „Rollern unter‘m Weihna
 chtsbaum“ findet bei mir\, in meiner noch leeren\, kargen Wohnung in der
  Wittingerstr. 93c\, statt.\nAb 11Uhr werdet ihr mit heißer Schokolade (w
 er darf\, mit Schuß)\, Kaffee\, alkoholfreiem Punsch\, Keksen und Nüssen
  erwartet. Es gibt sogar eine Raucherlounge.\nParken könnt ihr an der Wit
 tingerstr. und auf dem ehemaligen Musswessel\nEdekaparkplatz.\n\nErstmal s
 ehen wir uns am 13. zum Wichteln!\n\nLiebe Grüße! Sabine
CATEGORIES:Vespa Club Celle
LOCATION:bei Sabine\, Wittingerstr. 93c\, Celle\, Niedersachsen\, 29223\, D
 eutschland
GEO:52.627312;10.098693
X-APPLE-STRUCTURED-LOCATION;VALUE=URI;X-ADDRESS=Wittingerstr. 93c\, Celle\,
  Niedersachsen\, 29223\, Deutschland;X-APPLE-RADIUS=100;X-TITLE=bei Sabine
 :geo:52.627312,10.098693
END:VEVENT
BEGIN:VTIMEZONE
TZID:Europe/Berlin
X-LIC-LOCATION:Europe/Berlin
BEGIN:STANDARD
DTSTART:20241027T020000
TZOFFSETFROM:+0200
TZOFFSETTO:+0100
TZNAME:CET
END:STANDARD
END:VTIMEZONE
END:VCALENDAR