BEGIN:VCALENDAR
VERSION:2.0
PRODID:-//wp-events-plugin.com//7.2.3.1//EN
TZID:Europe/Berlin
X-WR-TIMEZONE:Europe/Berlin
BEGIN:VEVENT
UID:236@vc-celle.de
DTSTART;TZID=Europe/Berlin;VALUE=DATE:20180201
DTEND;TZID=Europe/Berlin;VALUE=DATE:20180205
DTSTAMP:20180103T124134Z
URL:https://www.vc-celle.de/events/scooterist-meltdown-2018
SUMMARY:Scooterist Meltdown 2018
DESCRIPTION:Weitere Infos: https://www.scooterist-meltdown.de/home\n\n\n\n
CATEGORIES:Weekender
LOCATION:Wunderland Kalkar\, Griether Str. 110-120\, Kalkar\, Nordrhein-Wes
 tfalen\, 47546\, Deutschland
GEO:51.7677655;6.32135310000001
X-APPLE-STRUCTURED-LOCATION;VALUE=URI;X-ADDRESS=Griether Str. 110-120\, Kal
 kar\, Nordrhein-Westfalen\, 47546\, Deutschland;X-APPLE-RADIUS=100;X-TITLE
 =Wunderland Kalkar:geo:51.7677655,6.32135310000001
END:VEVENT
BEGIN:VTIMEZONE
TZID:Europe/Berlin
X-LIC-LOCATION:Europe/Berlin
BEGIN:STANDARD
DTSTART:20171029T020000
TZOFFSETFROM:+0200
TZOFFSETTO:+0100
TZNAME:CET
END:STANDARD
END:VTIMEZONE
END:VCALENDAR