BEGIN:VCALENDAR
VERSION:2.0
PRODID:-//wp-events-plugin.com//7.2.3.1//EN
TZID:Europe/Berlin
X-WR-TIMEZONE:Europe/Berlin
BEGIN:VEVENT
UID:139@vc-celle.de
DTSTART;TZID=Europe/Berlin;VALUE=DATE:20160212
DTEND;TZID=Europe/Berlin;VALUE=DATE:20160215
DTSTAMP:20151116T114033Z
URL:https://www.vc-celle.de/events/scooterist-meltdown-4
SUMMARY:Scooterist Meltdown
DESCRIPTION:
CATEGORIES:Weekender
LOCATION:Wunderland Kalkar\, Griether Str. 110-120\, Kalkar\, Nordrhein-Wes
 tfalen\, 47546\, Deutschland
GEO:51.7677655;6.32135310000001
X-APPLE-STRUCTURED-LOCATION;VALUE=URI;X-ADDRESS=Griether Str. 110-120\, Kal
 kar\, Nordrhein-Westfalen\, 47546\, Deutschland;X-APPLE-RADIUS=100;X-TITLE
 =Wunderland Kalkar:geo:51.7677655,6.32135310000001
END:VEVENT
BEGIN:VTIMEZONE
TZID:Europe/Berlin
X-LIC-LOCATION:Europe/Berlin
BEGIN:STANDARD
DTSTART:20151025T020000
TZOFFSETFROM:+0200
TZOFFSETTO:+0100
TZNAME:CET
END:STANDARD
END:VTIMEZONE
END:VCALENDAR