BEGIN:VCALENDAR
VERSION:2.0
PRODID:-//wp-events-plugin.com//7.2.3.1//EN
TZID:Europe/Berlin
X-WR-TIMEZONE:Europe/Berlin
BEGIN:VEVENT
UID:126@vc-celle.de
DTSTART;TZID=Europe/Berlin:20160325T120000
DTEND;TZID=Europe/Berlin:20160327T120000
DTSTAMP:20160119T125419Z
URL:https://www.vc-celle.de/events/scytheman-rummel
SUMMARY:Scytheman Rummel
DESCRIPTION:30 Jahre...\n\n… on the Run\n… immer Vollgas\n… geile Rol
 ler\n… Soul\n… feste feiern\n… tanzende Torten\n… coole Menschen\n
 … erster Run des Jahres\n… kompromisslos\n… Scytheman\n\n2 Top Soul 
 Niter\, Schlammcatchen\, Verlosungen\, Freibier\, Pokale\, Teilestände\, 
 Leistungsprüfstand\n3 Tage ALLES Indoor und beheizt\n… und vielleicht n
 och ne Band\n
CATEGORIES:National,Treffen
LOCATION:Gut Basthorst\, Auf dem Gut 3\, Basthorst\, Schleswig-Holstein\, 2
 1493\, Deutschland
GEO:53.5801926;10.47035440000002
X-APPLE-STRUCTURED-LOCATION;VALUE=URI;X-ADDRESS=Auf dem Gut 3\, Basthorst\,
  Schleswig-Holstein\, 21493\, Deutschland;X-APPLE-RADIUS=100;X-TITLE=Gut B
 asthorst:geo:53.5801926,10.47035440000002
END:VEVENT
BEGIN:VTIMEZONE
TZID:Europe/Berlin
X-LIC-LOCATION:Europe/Berlin
BEGIN:STANDARD
DTSTART:20151025T020000
TZOFFSETFROM:+0200
TZOFFSETTO:+0100
TZNAME:CET
END:STANDARD
BEGIN:DAYLIGHT
DTSTART:20160327T030000
TZOFFSETFROM:+0100
TZOFFSETTO:+0200
TZNAME:CEST
END:DAYLIGHT
END:VTIMEZONE
END:VCALENDAR