BEGIN:VCALENDAR
VERSION:2.0
PRODID:-//wp-events-plugin.com//7.2.3.1//EN
TZID:Europe/Berlin
X-WR-TIMEZONE:Europe/Berlin
BEGIN:VEVENT
UID:69@vc-celle.de
DTSTART;TZID=Europe/Berlin;VALUE=DATE:20140830
DTEND;TZID=Europe/Berlin;VALUE=DATE:20140831
DTSTAMP:20131111T211147Z
URL:https://www.vc-celle.de/events/sommerparty-2014-vom-frantic-mongrels-r
 c
SUMMARY:Sommerparty 2014 vom Frantic Mongrels RC
DESCRIPTION:VORANKÜNDIGUNG ZUR SOMMERPARTY 2014 VOM FRANTIC MONGRELS RC\n\
 n\n\n&nbsp\;\n\nDie Sommerparty wird am 30.08.2014 in der nähe von Lüneb
 urg (umland von Hamburg) stattfinden.\n\n	Super Location mit festem Nigthe
 rraum und außen Bar\n	Getränke zu fairen Preisen\n	Top Musik\n	Barbecue\
 n	Feuerstelle\n\nWeitere Infos kommen zeitnah.
CATEGORIES:National,Tagesveranstaltung
END:VEVENT
BEGIN:VTIMEZONE
TZID:Europe/Berlin
X-LIC-LOCATION:Europe/Berlin
BEGIN:DAYLIGHT
DTSTART:20140330T030000
TZOFFSETFROM:+0100
TZOFFSETTO:+0200
TZNAME:CEST
END:DAYLIGHT
END:VTIMEZONE
END:VCALENDAR