BEGIN:VCALENDAR
VERSION:2.0
PRODID:-//wp-events-plugin.com//7.2.3.1//EN
TZID:Europe/Berlin
X-WR-TIMEZONE:Europe/Berlin
BEGIN:VEVENT
UID:54@vc-celle.de
DTSTART;TZID=Europe/Berlin:20130111T193000
DTEND;TZID=Europe/Berlin:20130111T233000
DTSTAMP:20131104T203324Z
URL:https://www.vc-celle.de/events/stammtisch-13
SUMMARY:Stammtisch
DESCRIPTION:Januar Stammtisch 2014
CATEGORIES:Vespa Club Celle
END:VEVENT
BEGIN:VTIMEZONE
TZID:Europe/Berlin
X-LIC-LOCATION:Europe/Berlin
BEGIN:STANDARD
DTSTART:20121028T020000
TZOFFSETFROM:+0200
TZOFFSETTO:+0100
TZNAME:CET
END:STANDARD
END:VTIMEZONE
END:VCALENDAR