BEGIN:VCALENDAR
VERSION:2.0
PRODID:-//wp-events-plugin.com//7.2.3.1//EN
TZID:Europe/Berlin
X-WR-TIMEZONE:Europe/Berlin
BEGIN:VEVENT
UID:370@vc-celle.de
DTSTART;TZID=Europe/Berlin:20230811T180000
DTEND;TZID=Europe/Berlin:20230811T220000
DTSTAMP:20221009T211049Z
URL:https://www.vc-celle.de/events/stammtisch-2023-08-11
SUMMARY:Stammtisch
DESCRIPTION:Bei Dominic in der Kanzlei. Treffen ab 18 Uhr und zu 19 Uhr wir
 d was zu essen besorgt\n\n(Mit Durchsprache Heidetreffen)
CATEGORIES:Vespa Club Celle
LOCATION:Allianz Versicherung Dominic Frentzel\, Mühlenstraße 9\, Celle\,
  Niedersachsen\, 29221\, Deutschland
GEO:52.624519;10.074775
X-APPLE-STRUCTURED-LOCATION;VALUE=URI;X-ADDRESS=Mühlenstraße 9\, Celle\, 
 Niedersachsen\, 29221\, Deutschland;X-APPLE-RADIUS=100;X-TITLE=Allianz Ver
 sicherung Dominic Frentzel:geo:52.624519,10.074775
END:VEVENT
BEGIN:VTIMEZONE
TZID:Europe/Berlin
X-LIC-LOCATION:Europe/Berlin
BEGIN:DAYLIGHT
DTSTART:20230326T030000
TZOFFSETFROM:+0100
TZOFFSETTO:+0200
TZNAME:CEST
END:DAYLIGHT
END:VTIMEZONE
END:VCALENDAR