BEGIN:VCALENDAR
VERSION:2.0
PRODID:-//wp-events-plugin.com//7.2.3.1//EN
TZID:Europe/Berlin
X-WR-TIMEZONE:Europe/Berlin
BEGIN:VEVENT
UID:100@vc-celle.de
DTSTART;TZID=Europe/Berlin:20150612T193000
DTEND;TZID=Europe/Berlin:20150612T230000
DTSTAMP:20150529T075344Z
URL:https://www.vc-celle.de/events/stammtisch-22
SUMMARY:Stammtisch
DESCRIPTION:Der Stammtisch am 12.06.2015 / um 19.30 Uhr findet im\n\nGarsse
 ner Hof\nCeller Heerstraße 1a\n29229 Celle / Garssen\nTel. 05086 / 2 90 0
 0 69\n\nstatt.
CATEGORIES:Vespa Club Celle
LOCATION:Garssener Hof\, Celler Heerstraße 1a\, Celle\, Niedersachsen\, 29
 229\, Deutschland
GEO:52.66142;10.132219999999961
X-APPLE-STRUCTURED-LOCATION;VALUE=URI;X-ADDRESS=Celler Heerstraße 1a\, Cel
 le\, Niedersachsen\, 29229\, Deutschland;X-APPLE-RADIUS=100;X-TITLE=Garsse
 ner Hof:geo:52.66142,10.132219999999961
END:VEVENT
BEGIN:VTIMEZONE
TZID:Europe/Berlin
X-LIC-LOCATION:Europe/Berlin
BEGIN:DAYLIGHT
DTSTART:20150329T030000
TZOFFSETFROM:+0100
TZOFFSETTO:+0200
TZNAME:CEST
END:DAYLIGHT
END:VTIMEZONE
END:VCALENDAR