BEGIN:VCALENDAR
VERSION:2.0
PRODID:-//wp-events-plugin.com//7.2.3.1//EN
TZID:Europe/Berlin
X-WR-TIMEZONE:Europe/Berlin
BEGIN:VEVENT
UID:222@vc-celle.de
DTSTART;TZID=Europe/Berlin:20180209T193000
DTEND;TZID=Europe/Berlin:20180209T193000
DTSTAMP:20180114T162233Z
URL:https://www.vc-celle.de/events/stammtisch-februar-2
SUMMARY:Stammtisch Februar
DESCRIPTION:Der nächsten Stammtische im neuen Jahr finden um 19.30 Uhr bei
 m ‚Zum Groben Otto‘ statt.\n\nVorschläge zu einem festen Lokal für d
 ie Stammtische bitte an &lt\;a title="eMail an den Schriftfuehrer" href="
 mailto:schriftfuehrer@vc-celle.de"&gt\;Claire&lt\;/a&gt\;.
CATEGORIES:Vespa Club Celle
LOCATION:Groben Otto\, Bahnhofstrasse 40\, Celle\, Niedersachsen\, 29221\, 
 Deutschland
GEO:52.6206039;10.064602700000023
X-APPLE-STRUCTURED-LOCATION;VALUE=URI;X-ADDRESS=Bahnhofstrasse 40\, Celle\,
  Niedersachsen\, 29221\, Deutschland;X-APPLE-RADIUS=100;X-TITLE=Groben Ott
 o:geo:52.6206039,10.064602700000023
END:VEVENT
BEGIN:VTIMEZONE
TZID:Europe/Berlin
X-LIC-LOCATION:Europe/Berlin
BEGIN:STANDARD
DTSTART:20171029T020000
TZOFFSETFROM:+0200
TZOFFSETTO:+0100
TZNAME:CET
END:STANDARD
END:VTIMEZONE
END:VCALENDAR