BEGIN:VCALENDAR
VERSION:2.0
PRODID:-//wp-events-plugin.com//7.2.3.1//EN
TZID:Europe/Berlin
X-WR-TIMEZONE:Europe/Berlin
BEGIN:VEVENT
UID:220@vc-celle.de
DTSTART;TZID=Europe/Berlin:20180112T193000
DTEND;TZID=Europe/Berlin:20180112T193000
DTSTAMP:20171217T182213Z
URL:https://www.vc-celle.de/events/stammtisch-januar
SUMMARY:Stammtisch Januar
DESCRIPTION:Der erste Stammtisch im neuen Jahr findet am 12.01.2017 um 19.3
 0 Uhr bei ‚Zum Groben Otto‘ statt.
CATEGORIES:Vespa Club Celle
LOCATION:Groben Otto\, Bahnhofstrasse 40\, Celle\, Niedersachsen\, 29221\, 
 Deutschland
GEO:52.6206039;10.064602700000023
X-APPLE-STRUCTURED-LOCATION;VALUE=URI;X-ADDRESS=Bahnhofstrasse 40\, Celle\,
  Niedersachsen\, 29221\, Deutschland;X-APPLE-RADIUS=100;X-TITLE=Groben Ott
 o:geo:52.6206039,10.064602700000023
END:VEVENT
BEGIN:VTIMEZONE
TZID:Europe/Berlin
X-LIC-LOCATION:Europe/Berlin
BEGIN:STANDARD
DTSTART:20171029T020000
TZOFFSETFROM:+0200
TZOFFSETTO:+0100
TZNAME:CET
END:STANDARD
END:VTIMEZONE
END:VCALENDAR