BEGIN:VCALENDAR
VERSION:2.0
PRODID:-//wp-events-plugin.com//7.2.3.1//EN
TZID:Europe/Berlin
X-WR-TIMEZONE:Europe/Berlin
BEGIN:VEVENT
UID:278@vc-celle.de
DTSTART;TZID=Europe/Berlin:20190308T193000
DTEND;TZID=Europe/Berlin:20190308T193000
DTSTAMP:20190303T151149Z
URL:https://www.vc-celle.de/events/stammtisch-maerz-3
SUMMARY:Stammtisch März
DESCRIPTION:Hallo ihr lieben.\n\nHier kommt der nächste Vorschlag von uns\
 , bezüglich einer Lokalität für unsere Stammtische.\n\nWürde mich nat
 ürlich wieder über eine rege Teilnahme freuen.\n\nDenkt bitte daran mir 
 wieder ein Feedback darüber zu geben\, wie es euch gefallen hat. Dies kö
 nnt ihr auch gern noch zum Dackels Krohne abgeben.\n\nAlso bis Freitag 08.
 03. 19:30 Uhr
CATEGORIES:Vespa Club Celle
LOCATION:VfL Westercelle e. V.\, Wilhelm-Hasselmann-Straße 51\, Celle\, Ni
 edersachsen\, 29227\, Deutschland
GEO:52.5962954;10.078475700000013
X-APPLE-STRUCTURED-LOCATION;VALUE=URI;X-ADDRESS=Wilhelm-Hasselmann-Straße 
 51\, Celle\, Niedersachsen\, 29227\, Deutschland;X-APPLE-RADIUS=100;X-TITL
 E=VfL Westercelle e. V.:geo:52.5962954,10.078475700000013
END:VEVENT
BEGIN:VTIMEZONE
TZID:Europe/Berlin
X-LIC-LOCATION:Europe/Berlin
BEGIN:STANDARD
DTSTART:20181028T020000
TZOFFSETFROM:+0200
TZOFFSETTO:+0100
TZNAME:CET
END:STANDARD
END:VTIMEZONE
END:VCALENDAR