BEGIN:VCALENDAR
VERSION:2.0
PRODID:-//wp-events-plugin.com//7.2.3.1//EN
TZID:Europe/Berlin
X-WR-TIMEZONE:Europe/Berlin
BEGIN:VEVENT
UID:187@vc-celle.de
DTSTART;TZID=Europe/Berlin:20171110T193000
DTEND;TZID=Europe/Berlin:20171110T193000
DTSTAMP:20171026T003916Z
URL:https://www.vc-celle.de/events/stammtisch-november-2
SUMMARY:Stammtisch November
DESCRIPTION:Don Pippo\nBergstraße 11\n29221 Celle
CATEGORIES:Vespa Club Celle
LOCATION:Don Pippo\, Bergstraße 11\, 29221 Celle\, Deutschland
GEO:52.6233023;10.084366499999987
X-APPLE-STRUCTURED-LOCATION;VALUE=URI;X-ADDRESS=Bergstraße 11\, 29221 Cell
 e\, Deutschland;X-APPLE-RADIUS=100;X-TITLE=Don Pippo:geo:52.6233023,10.084
 366499999987
END:VEVENT
BEGIN:VTIMEZONE
TZID:Europe/Berlin
X-LIC-LOCATION:Europe/Berlin
BEGIN:STANDARD
DTSTART:20171029T020000
TZOFFSETFROM:+0200
TZOFFSETTO:+0100
TZNAME:CET
END:STANDARD
END:VTIMEZONE
END:VCALENDAR