BEGIN:VCALENDAR
VERSION:2.0
PRODID:-//wp-events-plugin.com//7.2.3.1//EN
TZID:Europe/Berlin
X-WR-TIMEZONE:Europe/Berlin
BEGIN:VEVENT
UID:294@vc-celle.de
DTSTART;TZID=Europe/Berlin:20191108T193000
DTEND;TZID=Europe/Berlin:20191108T193000
DTSTAMP:20190503T053320Z
URL:https://www.vc-celle.de/events/stammtisch-vc-celle-2019-11-08
SUMMARY:Stammtisch VC-Celle
DESCRIPTION:Hallo ihr lieben\n\nNächste Woche findet der Stammtisch im Bra
 unen Hirsch statt.\nAuch zukünftig werden wir uns dort treffen.\n\nNach d
 en letzten Stammtischen hat es sich ganz klar abgezeichnet\, das der grö
 ßte Teil von euch ( zumindest die sich geäußert haben) den Braunen Hirs
 ch als bevorzugte Lokation sich wünschen würden.\n\nAlso bitteschön &#x
 1f60b\;\n\nAlso bis Freitag
CATEGORIES:Vespa Club Celle
LOCATION:Brauner Hirsch\, Braunhirschstrasse 21\, Celle\, 29221\, Deutschla
 nd
GEO:52.631808;10.08468670000002
X-APPLE-STRUCTURED-LOCATION;VALUE=URI;X-ADDRESS=Braunhirschstrasse 21\, Cel
 le\, 29221\, Deutschland;X-APPLE-RADIUS=100;X-TITLE=Brauner Hirsch:geo:52.
 631808,10.08468670000002
END:VEVENT
BEGIN:VTIMEZONE
TZID:Europe/Berlin
X-LIC-LOCATION:Europe/Berlin
BEGIN:STANDARD
DTSTART:20191027T020000
TZOFFSETFROM:+0200
TZOFFSETTO:+0100
TZNAME:CET
END:STANDARD
END:VTIMEZONE
END:VCALENDAR