BEGIN:VCALENDAR
VERSION:2.0
PRODID:-//wp-events-plugin.com//7.2.3.1//EN
TZID:Europe/Berlin
X-WR-TIMEZONE:Europe/Berlin
BEGIN:VEVENT
UID:162@vc-celle.de
DTSTART;TZID=Europe/Berlin:20160505T100000
DTEND;TZID=Europe/Berlin:20160505T180000
DTSTAMP:20160426T092808Z
URL:https://www.vc-celle.de/events/vaddatagstour-2016
SUMMARY:Vaddatagstour 2016
DESCRIPTION:\n\nMoin zusammen!\n\nbitte entschuldigt\, wenn die Einladung z
 ur VCC-Himmelfahrtstour/ Vaddatagstour am 05.05.15 dieses Jahr etwas kurzf
 ristiger eintrifft\, als ich es mir vorgestellt habe und Ihr Euch gewünsc
 ht habt...\n\nHiermit möchte ich Euch alle einladen zu einer Tour\, über
  ca. 150 - 210 km Länge (Fahrzeit ca. 3-4 Stunden). Tut mir leid\, aber z
 u einer Fuffi-Tour kann ich mich noch immer nicht motivieren. Letztes und 
 vorletztes Jahr haben wir die Tour nicht bis zum Ende geschafft. Ich möch
 te nicht\, dass wir dieses Jahr so spät zu Hause sind\, sondern noch Zeit
  haben ein wenig mit allen zu grillen. Deswegen werden wir die Tour zu geg
 ebener Zeit so verkürzen\, dass wir gegen 16:00 Uhr (+/0\,5 Stunden) wied
 er in Wathlingen sind.\n\nTreffpunkt ist am 05.05.15 um 10:00 Uhr (spätes
 te Abfahrt sollte dann 11:00 Uhr sein! Das Sprichwort mit der christlichen
  Seefahrt kennt hoffentlich jeder...) 29339 Wathlingen\, Auf der Heide 55.
 \n\nAuch wenn Vatertag ist\, es dürfen alle mit - eben auch Frauen mit B
 ärten! Bitte kommt mit vollgetankten Rollern an\, damit wir nicht gleich 
 nach 10km wieder anhalten müssen. Bitte sorgt selber für etwas "Marschve
 rpflegung" (Obst\, Gemüse\, bitte nicht zu fettige Nahrung mitnehmen!). E
 s wird Tankstopps geben. Ich werde diese dieses Mal etwas straffen\, damit
  wir nicht so viel Zeit vertrödeln. Es geht um die Tour\, quatschen könn
 en wir dann nachmittags bei Wurst und Getränken.\n\nUm 16:00 Uhr sind all
 e herzlich eingeladen bei uns zu grillen. Bitte gebt uns unbedingt Beschei
 d\, ob Ihr auch zum Grillen kommen wollt\, damit wir entsprechend einkaufe
 n können. Wer dann helfen möchte\, oder auch einen Salat beisteuern möc
 hte schickt bitte Beate eine Nachricht. Fleisch\, Würste und Getränke b
 esorgen wir\, Kostenbeitrag wird bei ca. 5 EUR pro Person liegen.\n\nSchau
 t also alle mal in Euren Terminkalender. Die Roller sind ja seit dem Anrol
 lern schon geputzt.\n\nBitte gebt mir bis spätestens 01.05.15 Bescheid\,
  ob Ihr mitkommen wollt/ dürft oder könnt. Danke vielmals für Eure Aufm
 erksamkeit!\n\nSchöne Grüße\n\nJoe\n\n
CATEGORIES:Vespa Club Celle
LOCATION:bei Joe\, Auf der Heide 55\, Wathlingen\, Niedersachsen\, 29339\, 
 Deutschland
GEO:52.534065;10.142539800000009
X-APPLE-STRUCTURED-LOCATION;VALUE=URI;X-ADDRESS=Auf der Heide 55\, Wathling
 en\, Niedersachsen\, 29339\, Deutschland;X-APPLE-RADIUS=100;X-TITLE=bei Jo
 e:geo:52.534065,10.142539800000009
END:VEVENT
BEGIN:VTIMEZONE
TZID:Europe/Berlin
X-LIC-LOCATION:Europe/Berlin
BEGIN:DAYLIGHT
DTSTART:20160327T030000
TZOFFSETFROM:+0100
TZOFFSETTO:+0200
TZNAME:CEST
END:DAYLIGHT
END:VTIMEZONE
END:VCALENDAR