BEGIN:VCALENDAR
VERSION:2.0
PRODID:-//wp-events-plugin.com//7.2.3.1//EN
TZID:Europe/Berlin
X-WR-TIMEZONE:Europe/Berlin
BEGIN:VEVENT
UID:212@vc-celle.de
DTSTART;TZID=Europe/Berlin:20170415T100000
DTEND;TZID=Europe/Berlin:20170415T170000
DTSTAMP:20170330T072054Z
URL:https://www.vc-celle.de/events/vc-hannover-anrollern-2017
SUMMARY:VC Hannover Anrollern 2017
DESCRIPTION:
CATEGORIES:National,Tagesveranstaltung
LOCATION:Real Parkplatz\, Hemmingen\, Alfred-Bentz-Straße 1\, Hemmingen\, 
 30966 \, Deutschland
GEO:52.3154886;9.723063499999967
X-APPLE-STRUCTURED-LOCATION;VALUE=URI;X-ADDRESS=Alfred-Bentz-Straße 1\, He
 mmingen\, 30966 \, Deutschland;X-APPLE-RADIUS=100;X-TITLE=Real Parkplatz\,
  Hemmingen:geo:52.3154886,9.723063499999967
END:VEVENT
BEGIN:VTIMEZONE
TZID:Europe/Berlin
X-LIC-LOCATION:Europe/Berlin
BEGIN:DAYLIGHT
DTSTART:20170326T030000
TZOFFSETFROM:+0100
TZOFFSETTO:+0200
TZNAME:CEST
END:DAYLIGHT
END:VTIMEZONE
END:VCALENDAR