BEGIN:VCALENDAR
VERSION:2.0
PRODID:-//wp-events-plugin.com//7.2.3.1//EN
TZID:Europe/Berlin
X-WR-TIMEZONE:Europe/Berlin
BEGIN:VEVENT
UID:53@vc-celle.de
DTSTART;TZID=Europe/Berlin;VALUE=DATE:20140605
DTEND;TZID=Europe/Berlin;VALUE=DATE:20140610
DTSTAMP:20131111T210418Z
URL:https://www.vc-celle.de/events/vespa-alp-days-2014
SUMMARY:Vespa Alp Days 2014 - Zell am See\, Österreich
DESCRIPTION:
CATEGORIES:International
LOCATION:Zell am See\, Schlossplatz\, Zell am See\, 5700\, Österreich
GEO:47.3231417;12.79730649999999
X-APPLE-STRUCTURED-LOCATION;VALUE=URI;X-ADDRESS=Schlossplatz\, Zell am See\
 , 5700\, Österreich;X-APPLE-RADIUS=100;X-TITLE=Zell am See:geo:47.3231417
 ,12.79730649999999
END:VEVENT
BEGIN:VTIMEZONE
TZID:Europe/Berlin
X-LIC-LOCATION:Europe/Berlin
BEGIN:DAYLIGHT
DTSTART:20140330T030000
TZOFFSETFROM:+0100
TZOFFSETTO:+0200
TZNAME:CEST
END:DAYLIGHT
END:VTIMEZONE
END:VCALENDAR