BEGIN:VCALENDAR
VERSION:2.0
PRODID:-//wp-events-plugin.com//7.2.3.1//EN
TZID:Europe/Berlin
X-WR-TIMEZONE:Europe/Berlin
BEGIN:VEVENT
UID:49@vc-celle.de
DTSTART;TZID=Europe/Berlin;VALUE=DATE:20170622
DTEND;TZID=Europe/Berlin;VALUE=DATE:20170626
DTSTAMP:20190130T144541Z
URL:https://www.vc-celle.de/events/vespa-world-days-2017-in-celle
SUMMARY:Vespa World Days 2017 in Celle
DESCRIPTION:\n\nCelle hat den Zuschlag für die Ausrichtung der Vespa World
  Days 2017\nbekommen.\n\nVWD 2017 Flyer
CATEGORIES:International,Vespa Club Celle
LOCATION:CD Kaserne\, Hannoversche Str. 30B\, Celle\, Niedersachsen\, 29221
 \, Deutschland
GEO:52.6150021;10.079899000000069
X-APPLE-STRUCTURED-LOCATION;VALUE=URI;X-ADDRESS=Hannoversche Str. 30B\, Cel
 le\, Niedersachsen\, 29221\, Deutschland;X-APPLE-RADIUS=100;X-TITLE=CD Kas
 erne:geo:52.6150021,10.079899000000069
END:VEVENT
BEGIN:VTIMEZONE
TZID:Europe/Berlin
X-LIC-LOCATION:Europe/Berlin
BEGIN:DAYLIGHT
DTSTART:20170326T030000
TZOFFSETFROM:+0100
TZOFFSETTO:+0200
TZNAME:CEST
END:DAYLIGHT
END:VTIMEZONE
END:VCALENDAR