BEGIN:VCALENDAR
VERSION:2.0
PRODID:-//wp-events-plugin.com//7.2.3.1//EN
TZID:Europe/Berlin
X-WR-TIMEZONE:Europe/Berlin
BEGIN:VEVENT
UID:163@vc-celle.de
DTSTART;TZID=Europe/Berlin;VALUE=DATE:20180614
DTEND;TZID=Europe/Berlin;VALUE=DATE:20180618
DTSTAMP:20180103T124057Z
URL:https://www.vc-celle.de/events/vespa-world-days-2018-belfast
SUMMARY:Vespa World Days 2018 - Belfast
DESCRIPTION:Laut folgende Information aus Belfast\, kann man sich für eine
 n Full Entry nur bis 23. Januar und für den Light Entry nur bis 21. Febru
 ar nennen.\n\nWer noch möchte\, der soll bitte eine Mail schicken - nochm
 als zur Erinnerung ich brauche folgende Information von Euch:\nName / Gebu
 rtsjahr / T-Shirt Größe Unisex / Vespa Modell  &amp\; Camping Ja/Nein\n
 \nWeitere Info: http://www.vespaworlddays2018.co.uk
CATEGORIES:International
LOCATION:Titanic Belfast\, 1 Olympic Way\, Queens Road\, Belfast \, BT3 9EP
 \, Vereinigtes Königreich
GEO:54.60793719999999;-5.9096664999999575
X-APPLE-STRUCTURED-LOCATION;VALUE=URI;X-ADDRESS=1 Olympic Way\, Queens Road
 \, Belfast \, BT3 9EP\, Vereinigtes Königreich;X-APPLE-RADIUS=100;X-TITLE
 =Titanic Belfast:geo:54.60793719999999,-5.9096664999999575
END:VEVENT
BEGIN:VTIMEZONE
TZID:Europe/Berlin
X-LIC-LOCATION:Europe/Berlin
BEGIN:DAYLIGHT
DTSTART:20180325T030000
TZOFFSETFROM:+0100
TZOFFSETTO:+0200
TZNAME:CEST
END:DAYLIGHT
END:VTIMEZONE
END:VCALENDAR