BEGIN:VCALENDAR
VERSION:2.0
PRODID:-//wp-events-plugin.com//7.2.3.1//EN
TZID:Europe/Berlin
X-WR-TIMEZONE:Europe/Berlin
BEGIN:VEVENT
UID:117@vc-celle.de
DTSTART;TZID=Europe/Berlin:20150626T080000
DTEND;TZID=Europe/Berlin:20150628T160000
DTSTAMP:20150205T133557Z
URL:https://www.vc-celle.de/events/vespina-2015
SUMMARY:Vespina 2015
DESCRIPTION:Eine neue Idee wird in die Tat umgesetzt. Das Logo symbolisiert
  Berge mit Schneespitzen\, Toblerone\, passfahrender Vespafahrer\, Strasse
 nsport - Achtung auf die Vespas im Verkehr.\n\nDer Leitgedanke: schlanke O
 rganisation\, Pässe fahren\, Schlaferlebnis im Mehrbettzimmer\, gemeinsam
 es essen aus der Grossküche\, Gemeinschaft pflegen\, Leute kennenlernen. 
 Was lieben wir mehr als Vespa fahren\, essen\, trinken und schlafen ???\n\
 nWeitere Informationen über die Veranstaltung findet ihr unter www.vespin
 a.ch\n\n[caption id="" align="alignnone" width="353"] Vespina 2015[/captio
 n]
CATEGORIES:International
LOCATION:Erstfeld\, Gotthardstrasse\, Erstfeld\, Schweiz
GEO:46.82553;8.649490000000014
X-APPLE-STRUCTURED-LOCATION;VALUE=URI;X-ADDRESS=Gotthardstrasse\, Erstfeld\
 , Schweiz;X-APPLE-RADIUS=100;X-TITLE=Erstfeld:geo:46.82553,8.6494900000000
 14
END:VEVENT
BEGIN:VTIMEZONE
TZID:Europe/Berlin
X-LIC-LOCATION:Europe/Berlin
BEGIN:DAYLIGHT
DTSTART:20150329T030000
TZOFFSETFROM:+0100
TZOFFSETTO:+0200
TZNAME:CEST
END:DAYLIGHT
END:VTIMEZONE
END:VCALENDAR