BEGIN:VCALENDAR
VERSION:2.0
PRODID:-//wp-events-plugin.com//7.2.3.1//EN
TZID:Europe/Berlin
X-WR-TIMEZONE:Europe/Berlin
BEGIN:VEVENT
UID:157@vc-celle.de
DTSTART;TZID=Europe/Berlin:20161209T193000
DTEND;TZID=Europe/Berlin:20161209T193000
DTSTAMP:20161201T184336Z
URL:https://www.vc-celle.de/events/weihnachtsstammtisch-mit-wichteln-4
SUMMARY:Weihnachtsstammtisch mit Wichteln
DESCRIPTION:
CATEGORIES:Vespa Club Celle
LOCATION:Zur Mütze\, Bremer Weg 116\, Celle\, Niedersachsen\, 29223\, Nied
 ersachsen\, Deutschland
X-APPLE-STRUCTURED-LOCATION;VALUE=URI;X-ADDRESS=Bremer Weg 116\, Celle\, Ni
 edersachsen\, 29223\, Niedersachsen\, Deutschland;X-APPLE-RADIUS=100;X-TIT
 LE=Zur Mütze:geo:0,0
END:VEVENT
BEGIN:VTIMEZONE
TZID:Europe/Berlin
X-LIC-LOCATION:Europe/Berlin
BEGIN:STANDARD
DTSTART:20161030T020000
TZOFFSETFROM:+0200
TZOFFSETTO:+0100
TZNAME:CET
END:STANDARD
END:VTIMEZONE
END:VCALENDAR